BEGIN:VCALENDAR
VERSION:2.0
PRODID:icalendar-ruby
CALSCALE:GREGORIAN
METHOD:PUBLISH
BEGIN:VEVENT
DTSTAMP:20260424T055701Z
UID:1a158e97-f8ef-45ee-91f5-ea42bc1439e7
DTSTART:20200524T150000
DTEND:20200524T170000
DESCRIPTION:<p><span style="color: rgb(34\, 34\, 34)\; background-color: rg
 b(255\, 255\, 255)\;">Urban Village have become a live favourite in South 
 Africa\, with their blend of mbaqanga\, maskandi\, Zulu rock\, Xhosa funk 
 and folk music taking them stages all across the country.</span></p><p><br
 ></p><p><span style="color: rgb(34\, 34\, 34)\; background-color: rgb(255\
 , 255\, 255)\;">Join the Urban Village Lounge experience this Sunday 24 Ma
 y from 3pm with host Rude Boy Paul\, the band will jam and talk through th
 eir journey as a band from Soweto to signing an album deal with a French r
 ecord label and a European Booking Agent. Plug in your sound system and jo
 in the Village online from 3pm for a 2 hour sound experience.</span></p><p
 ><br></p><p><span style="color: rgb(34\, 34\, 34)\; background-color: rgb(
 255\, 255\, 255)\;">“Feet steeped in tradition and head bowed toward the
  future\, the Soweto based group Urban Village creates a unique melding of
  Zulu guitars\, indie-folk\, South African choirs and jazz and dazzled wit
 h an insane energy and charisma. Urban Village crafts songs with a wide ra
 nge of colours – sometimes powerful\, sometimes gentle\, always airborne
 .”</span></p><p><br></p><p><span style="color: rgb(34\, 34\, 34)\; backg
 round-color: rgb(255\, 255\, 255)\;">﻿— Pan African Music</span></p>
SUMMARY:Urban Village live at Club soda Studios 
URL;VALUE=URI:https://jhblive.howler.co.za/UrbanVillage
END:VEVENT
END:VCALENDAR
